{
 "currentVersion": 10.91,
 "serviceDescription": "Thermographie de jour d'août 2020 par la société Aérodata",
 "name": "Referentiel/Thermographie_jour",
 "description": "Thermographie de jour d'août 2020 par la société Aérodata",
 "extent": {
  "xmin": 1916622.3639684415,
  "ymin": 6222472.06811114,
  "xmax": 1936440.3639684415,
  "ymax": 6242353.56811114,
  "spatialReference": {
   "wkt": "PROJCS[\"RGF_1993_CC47\",GEOGCS[\"GCS_RGF_1993\",DATUM[\"D_RGF_1993\",SPHEROID[\"GRS_1980\",6378137.0,298.257222101]],PRIMEM[\"Greenwich\",0.0],UNIT[\"Degree\",0.0174532925199433]],PROJECTION[\"Lambert_Conformal_Conic\"],PARAMETER[\"False_Easting\",1700000.0],PARAMETER[\"False_Northing\",6200000.0],PARAMETER[\"Central_Meridian\",3.0],PARAMETER[\"Standard_Parallel_1\",46.25],PARAMETER[\"Standard_Parallel_2\",47.75],PARAMETER[\"Latitude_Of_Origin\",47.0],UNIT[\"Meter\",1.0]],VERTCS[\"unknown\",VDATUM[\"unknown\"],PARAMETER[\"Vertical_Shift\",0.0],PARAMETER[\"Direction\",1.0],UNIT[\"Meter\",1.0]]"
  }
 },
 "initialExtent": {
  "xmin": 1916622.3639684415,
  "ymin": 6222472.06811114,
  "xmax": 1936440.3639684415,
  "ymax": 6242353.56811114,
  "spatialReference": {
   "wkt": "PROJCS[\"RGF_1993_CC47\",GEOGCS[\"GCS_RGF_1993\",DATUM[\"D_RGF_1993\",SPHEROID[\"GRS_1980\",6378137.0,298.257222101]],PRIMEM[\"Greenwich\",0.0],UNIT[\"Degree\",0.0174532925199433]],PROJECTION[\"Lambert_Conformal_Conic\"],PARAMETER[\"False_Easting\",1700000.0],PARAMETER[\"False_Northing\",6200000.0],PARAMETER[\"Central_Meridian\",3.0],PARAMETER[\"Standard_Parallel_1\",46.25],PARAMETER[\"Standard_Parallel_2\",47.75],PARAMETER[\"Latitude_Of_Origin\",47.0],UNIT[\"Meter\",1.0]],VERTCS[\"unknown\",VDATUM[\"unknown\"],PARAMETER[\"Vertical_Shift\",0.0],PARAMETER[\"Direction\",1.0],UNIT[\"Meter\",1.0]]"
  }
 },
 "fullExtent": {
  "xmin": 1916622.3639684415,
  "ymin": 6222472.06811114,
  "xmax": 1936440.3639684415,
  "ymax": 6242353.56811114,
  "spatialReference": {
   "wkt": "PROJCS[\"RGF_1993_CC47\",GEOGCS[\"GCS_RGF_1993\",DATUM[\"D_RGF_1993\",SPHEROID[\"GRS_1980\",6378137.0,298.257222101]],PRIMEM[\"Greenwich\",0.0],UNIT[\"Degree\",0.0174532925199433]],PROJECTION[\"Lambert_Conformal_Conic\"],PARAMETER[\"False_Easting\",1700000.0],PARAMETER[\"False_Northing\",6200000.0],PARAMETER[\"Central_Meridian\",3.0],PARAMETER[\"Standard_Parallel_1\",46.25],PARAMETER[\"Standard_Parallel_2\",47.75],PARAMETER[\"Latitude_Of_Origin\",47.0],UNIT[\"Meter\",1.0]],VERTCS[\"unknown\",VDATUM[\"unknown\"],PARAMETER[\"Vertical_Shift\",0.0],PARAMETER[\"Direction\",1.0],UNIT[\"Meter\",1.0]]"
  }
 },
 "heightModelInfo": {
  "heightModel": "gravity_related_height",
  "vertCRS": "unknown",
  "heightUnit": "meter"
 },
 "pixelSizeX": 0.5,
 "pixelSizeY": 0.5,
 "bandCount": 1,
 "pixelType": "F32",
 "minPixelSize": 0.052916772500211665,
 "maxPixelSize": 50,
 "copyrightText": "",
 "serviceDataType": "esriImageServiceDataTypeGeneric",
 "minValues": [
  0
 ],
 "maxValues": [
  92.089820861816
 ],
 "meanValues": [
  15.843096618828
 ],
 "stdvValues": [
  16.045425406453
 ],
 "objectIdField": "",
 "fields": [],
 "capabilities": "Mensuration,Image,Metadata",
 "defaultMosaicMethod": "Center",
 "allowedMosaicMethods": "",
 "sortField": "",
 "sortValue": null,
 "sortAscending": true,
 "mosaicOperator": "First",
 "defaultCompressionQuality": 75,
 "defaultResamplingMethod": "Bilinear",
 "maxImageHeight": 4100,
 "maxImageWidth": 15000,
 "singleFusedMapCache": true,
 "tileInfo": {
  "rows": 256,
  "cols": 256,
  "dpi": 96,
  "format": "JPEG",
  "compressionQuality": 85,
  "origin": {
   "x": -34579800,
   "y": 48437500
  },
  "spatialReference": {
   "wkid": 3947,
   "latestWkid": 3947
  },
  "lods": [
   {
    "level": 0,
    "resolution": 50,
    "scale": 188976
   },
   {
    "level": 1,
    "resolution": 25,
    "scale": 94488
   },
   {
    "level": 2,
    "resolution": 9.9999470832275,
    "scale": 37795
   },
   {
    "level": 3,
    "resolution": 5.000105833545001,
    "scale": 18898
   },
   {
    "level": 4,
    "resolution": 2.5000529167725003,
    "scale": 9449
   },
   {
    "level": 5,
    "resolution": 1.0001270002540006,
    "scale": 3780
   },
   {
    "level": 6,
    "resolution": 0.5000635001270003,
    "scale": 1890
   },
   {
    "level": 7,
    "resolution": 0.26458386250105836,
    "scale": 1000
   },
   {
    "level": 8,
    "resolution": 0.13229193125052918,
    "scale": 500
   },
   {
    "level": 9,
    "resolution": 0.09260435187537042,
    "scale": 350
   },
   {
    "level": 10,
    "resolution": 0.05291677250021167,
    "scale": 200
   }
  ]
 },
 "cacheType": "Map",
 "allowRasterFunction": true,
 "rasterFunctionInfos": [
  {
   "name": "symbologieArcg",
   "description": "Modèle de fonction raster.",
   "help": ""
  },
  {
   "name": "None",
   "description": "",
   "help": ""
  }
 ],
 "rasterTypeInfos": [
  {
   "name": "Raster Dataset",
   "description": "Supports all ArcGIS Raster Datasets",
   "help": ""
  }
 ],
 "mensurationCapabilities": "Basic",
 "hasHistograms": true,
 "hasColormap": false,
 "hasRasterAttributeTable": false,
 "minScale": 188976,
 "maxScale": 200,
 "exportTilesAllowed": false,
 "hasMultidimensions": false,
 "supportsStatistics": false,
 "supportsAdvancedQueries": false,
 "editFieldsInfo": null,
 "ownershipBasedAccessControlForRasters": null,
 "allowComputeTiePoints": false,
 "useStandardizedQueries": true,
 "advancedQueryCapabilities": {
  "useStandardizedQueries": true,
  "supportsStatistics": false,
  "supportsOrderBy": false,
  "supportsDistinct": false,
  "supportsPagination": false
 },
 "spatialReference": {
  "wkt": "PROJCS[\"RGF_1993_CC47\",GEOGCS[\"GCS_RGF_1993\",DATUM[\"D_RGF_1993\",SPHEROID[\"GRS_1980\",6378137.0,298.257222101]],PRIMEM[\"Greenwich\",0.0],UNIT[\"Degree\",0.0174532925199433]],PROJECTION[\"Lambert_Conformal_Conic\"],PARAMETER[\"False_Easting\",1700000.0],PARAMETER[\"False_Northing\",6200000.0],PARAMETER[\"Central_Meridian\",3.0],PARAMETER[\"Standard_Parallel_1\",46.25],PARAMETER[\"Standard_Parallel_2\",47.75],PARAMETER[\"Latitude_Of_Origin\",47.0],UNIT[\"Meter\",1.0]],VERTCS[\"unknown\",VDATUM[\"unknown\"],PARAMETER[\"Vertical_Shift\",0.0],PARAMETER[\"Direction\",1.0],UNIT[\"Meter\",1.0]]"
 }
}
