{
 "currentVersion": 10.91,
 "serviceDescription": "Thermographie de nuit août 2020 par la société Aérodata",
 "name": "Referentiel/Thermographie_nuit",
 "description": "Thermographie de nuit août 2020 par la société Aérodata",
 "extent": {
  "xmin": 1918434.939777246,
  "ymin": 6223618.626200917,
  "xmax": 1935684.9397887539,
  "ymax": 6242599.126203415,
  "spatialReference": {
   "wkid": 3947,
   "latestWkid": 3947
  }
 },
 "initialExtent": {
  "xmin": 1918434.939777246,
  "ymin": 6223618.626200917,
  "xmax": 1935684.9397887539,
  "ymax": 6242599.126203415,
  "spatialReference": {
   "wkid": 3947,
   "latestWkid": 3947
  }
 },
 "fullExtent": {
  "xmin": 1918434.939777246,
  "ymin": 6223618.626200917,
  "xmax": 1935684.9397887539,
  "ymax": 6242599.126203415,
  "spatialReference": {
   "wkid": 3947,
   "latestWkid": 3947
  }
 },
 "pixelSizeX": 0.49998550799999675,
 "pixelSizeY": 0.4999868289999949,
 "bandCount": 1,
 "pixelType": "F32",
 "minPixelSize": 0.052916772500211665,
 "maxPixelSize": 50,
 "copyrightText": "© Grand Besançon Métropole",
 "serviceDataType": "esriImageServiceDataTypeGeneric",
 "minValues": [
  0
 ],
 "maxValues": [
  90.169052124023
 ],
 "meanValues": [
  15.037344633709
 ],
 "stdvValues": [
  12.256396164922
 ],
 "objectIdField": "",
 "fields": [],
 "capabilities": "Mensuration,Image,Metadata",
 "defaultMosaicMethod": "Center",
 "allowedMosaicMethods": "",
 "sortField": "",
 "sortValue": null,
 "sortAscending": true,
 "mosaicOperator": "First",
 "defaultCompressionQuality": 75,
 "defaultResamplingMethod": "Bilinear",
 "maxImageHeight": 4100,
 "maxImageWidth": 15000,
 "singleFusedMapCache": true,
 "tileInfo": {
  "rows": 256,
  "cols": 256,
  "dpi": 96,
  "format": "MIXED",
  "compressionQuality": 75,
  "origin": {
   "x": -34579800,
   "y": 48437500
  },
  "spatialReference": {
   "wkid": 3947,
   "latestWkid": 3947
  },
  "lods": [
   {
    "level": 0,
    "resolution": 50,
    "scale": 188976
   },
   {
    "level": 1,
    "resolution": 25,
    "scale": 94488
   },
   {
    "level": 2,
    "resolution": 9.9999470832275,
    "scale": 37795
   },
   {
    "level": 3,
    "resolution": 5.000105833545001,
    "scale": 18898
   },
   {
    "level": 4,
    "resolution": 2.5000529167725003,
    "scale": 9449
   },
   {
    "level": 5,
    "resolution": 1.0001270002540006,
    "scale": 3780
   },
   {
    "level": 6,
    "resolution": 0.5000635001270003,
    "scale": 1890
   },
   {
    "level": 7,
    "resolution": 0.26458386250105836,
    "scale": 1000
   },
   {
    "level": 8,
    "resolution": 0.13229193125052918,
    "scale": 500
   },
   {
    "level": 9,
    "resolution": 0.09260435187537042,
    "scale": 350
   },
   {
    "level": 10,
    "resolution": 0.05291677250021167,
    "scale": 200
   }
  ]
 },
 "cacheType": "Map",
 "allowRasterFunction": true,
 "rasterFunctionInfos": [
  {
   "name": "symbologieArcg",
   "description": "Modèle de fonction raster.",
   "help": ""
  },
  {
   "name": "None",
   "description": "",
   "help": ""
  }
 ],
 "rasterTypeInfos": [
  {
   "name": "Raster Dataset",
   "description": "Supports all ArcGIS Raster Datasets",
   "help": ""
  }
 ],
 "mensurationCapabilities": "Basic",
 "hasHistograms": true,
 "hasColormap": false,
 "hasRasterAttributeTable": false,
 "minScale": 188976,
 "maxScale": 200,
 "exportTilesAllowed": false,
 "hasMultidimensions": false,
 "supportsStatistics": false,
 "supportsAdvancedQueries": false,
 "editFieldsInfo": null,
 "ownershipBasedAccessControlForRasters": null,
 "allowComputeTiePoints": false,
 "useStandardizedQueries": true,
 "advancedQueryCapabilities": {
  "useStandardizedQueries": true,
  "supportsStatistics": false,
  "supportsOrderBy": false,
  "supportsDistinct": false,
  "supportsPagination": false
 },
 "spatialReference": {
  "wkid": 3947,
  "latestWkid": 3947
 }
}
