View In:
ArcGIS JavaScript
ArcGIS Online Map Viewer
ArcGIS Earth
ArcMap
View Footprint In:
ArcGIS Online Map Viewer
Service Description: Thermographie de nuit août 2020 par la société Aérodata
Name: Referentiel/Thermographie_nuit
Description: Thermographie de nuit août 2020 par la société Aérodata
Single Fused Map Cache: true
Tile Info:
- Height: 256
- Width: 256
- DPI: 96
-
Levels of Detail: 11
- Format: MIXED
- Compression Quality: 75.0
- LERC Error: NaN
- Origin: X: -3.45798E7
Y: 4.84375E7
- Spatial Reference: 3947
(3947)
LatestVCSWkid(0)
Extent:
XMin: 1918434.939777246
YMin: 6223618.626200917
XMax: 1935684.9397887539
YMax: 6242599.126203415
Spatial Reference: 3947
(3947)
LatestVCSWkid(0)
Initial Extent:
XMin: 1918434.939777246
YMin: 6223618.626200917
XMax: 1935684.9397887539
YMax: 6242599.126203415
Spatial Reference: 3947
(3947)
LatestVCSWkid(0)
Full Extent:
XMin: 1918434.939777246
YMin: 6223618.626200917
XMax: 1935684.9397887539
YMax: 6242599.126203415
Spatial Reference: 3947
(3947)
LatestVCSWkid(0)
Pixel Size X: 0.49998550799999675
Pixel Size Y: 0.4999868289999949
Band Count: 1
Pixel Type: F32
RasterFunction Infos: {"rasterFunctionInfos": [
{
"name": "symbologieArcg",
"description": "Modèle de fonction raster.",
"help": ""
},
{
"name": "None",
"description": "",
"help": ""
}
]}
Mensuration Capabilities: Basic
Has Histograms: true
Has Colormap: false
Has Multi Dimensions : false
Rendering Rule:
Min Scale: 188976
Max Scale: 200
Copyright Text: © Grand Besançon Métropole
Service Data Type: esriImageServiceDataTypeGeneric
Min Values: 0
Max Values: 90.169052124023
Mean Values: 15.037344633709
Standard Deviation Values: 12.256396164922
Object ID Field:
Fields:
None
Default Mosaic Method: Center
Allowed Mosaic Methods:
SortField:
SortValue: null
Mosaic Operator: First
Default Compression Quality: 75
Default Resampling Method: Bilinear
Max Record Count: null
Max Image Height: 4100
Max Image Width: 15000
Max Download Image Count: null
Max Mosaic Image Count: null
Allow Raster Function: true
Allow Copy: null
Allow Analysis: null
Allow Compute TiePoints: false
Supports Statistics: false
Supports Advanced Queries: false
Use StandardizedQueries: true
Raster Type Infos:
Name: Raster Dataset
Description: Supports all ArcGIS Raster Datasets
Help:
Has Raster Attribute Table: false
Edit Fields Info: null
Ownership Based AccessControl For Rasters: null
Child Resources:
Info
Histograms
Key Properties
Legend
Raster Function Infos
Supported Operations:
Export Image
Identify
Measure
Compute Histograms
Compute Statistics Histograms
Get Samples
Compute Class Statistics
Query Boundary
Compute Pixel Location
Compute Angles
Validate
Project